BEGIN:VCALENDAR
VERSION:2.0
PRODID:-//Camera Club Wageningen - ECPv6.15.20//NONSGML v1.0//EN
CALSCALE:GREGORIAN
METHOD:PUBLISH
X-ORIGINAL-URL:https://www.cameraclubwageningen.nl
X-WR-CALDESC:Evenementen voor Camera Club Wageningen
REFRESH-INTERVAL;VALUE=DURATION:PT1H
X-Robots-Tag:noindex
X-PUBLISHED-TTL:PT1H
BEGIN:VTIMEZONE
TZID:Europe/Amsterdam
BEGIN:DAYLIGHT
TZOFFSETFROM:+0100
TZOFFSETTO:+0200
TZNAME:CEST
DTSTART:20240331T010000
END:DAYLIGHT
BEGIN:STANDARD
TZOFFSETFROM:+0200
TZOFFSETTO:+0100
TZNAME:CET
DTSTART:20241027T010000
END:STANDARD
BEGIN:DAYLIGHT
TZOFFSETFROM:+0100
TZOFFSETTO:+0200
TZNAME:CEST
DTSTART:20250330T010000
END:DAYLIGHT
BEGIN:STANDARD
TZOFFSETFROM:+0200
TZOFFSETTO:+0100
TZNAME:CET
DTSTART:20251026T010000
END:STANDARD
BEGIN:DAYLIGHT
TZOFFSETFROM:+0100
TZOFFSETTO:+0200
TZNAME:CEST
DTSTART:20260329T010000
END:DAYLIGHT
BEGIN:STANDARD
TZOFFSETFROM:+0200
TZOFFSETTO:+0100
TZNAME:CET
DTSTART:20261025T010000
END:STANDARD
BEGIN:DAYLIGHT
TZOFFSETFROM:+0100
TZOFFSETTO:+0200
TZNAME:CEST
DTSTART:20270328T010000
END:DAYLIGHT
BEGIN:STANDARD
TZOFFSETFROM:+0200
TZOFFSETTO:+0100
TZNAME:CET
DTSTART:20271031T010000
END:STANDARD
END:VTIMEZONE
BEGIN:VEVENT
DTSTART;TZID=Europe/Amsterdam:20260310T200000
DTEND;TZID=Europe/Amsterdam:20260310T203000
DTSTAMP:20260424T040336
CREATED:20260217T201214Z
LAST-MODIFIED:20260217T201214Z
UID:9326-1773172800-1773174600@www.cameraclubwageningen.nl
SUMMARY:Werkgroep avond - PSE
DESCRIPTION:Leden en belangstellende zijn welkom op de werkgroep Portret\, Sport en Evenementen.
URL:https://www.cameraclubwageningen.nl/event/werkgroep-avond-pse/
CATEGORIES:Werkgroep Portret-Sport-Evenementen (PSE)
ATTACH;FMTTYPE=image/jpeg:https://www.cameraclubwageningen.nl/wordpress/wp-content/uploads/2026/01/Januari2026-JanSnel-R1IMG32462-3x4-kopie.jpg
END:VEVENT
BEGIN:VEVENT
DTSTART;TZID=Europe/Amsterdam:20251104T200000
DTEND;TZID=Europe/Amsterdam:20251104T223000
DTSTAMP:20260424T040336
CREATED:20250812T112504Z
LAST-MODIFIED:20250901T105442Z
UID:8824-1762286400-1762295400@www.cameraclubwageningen.nl
SUMMARY:Werkgroepavond 'Portret\, Sport en Evenementen (PSE)'
DESCRIPTION:[Foto Frits Weener]\nDeze avond wordt ingevuld door de Werkgroep Portret\, Sport en Evenementen (PSE).
URL:https://www.cameraclubwageningen.nl/event/werkgroep-pse-2025-2/
LOCATION:Tuindorp (Grote zaal)\, Floralaan 20b\, 6707 HR WAGENINGEN
CATEGORIES:Werkgroep Portret-Sport-Evenementen (PSE),Werkgroepavond
ATTACH;FMTTYPE=image/jpeg:https://www.cameraclubwageningen.nl/wordpress/wp-content/uploads/2025/08/P5180171-2.jpg
END:VEVENT
BEGIN:VEVENT
DTSTART;TZID=Europe/Amsterdam:20250916T200000
DTEND;TZID=Europe/Amsterdam:20250916T223000
DTSTAMP:20260424T040336
CREATED:20250812T112240Z
LAST-MODIFIED:20250812T113800Z
UID:8821-1758052800-1758061800@www.cameraclubwageningen.nl
SUMMARY:Werkgroepavond 'Portret\, Sport en Evenementen (PSE)'
DESCRIPTION:[Foto Frits Weener]\nDeze avond wordt ingevuld door de Werkgroep ‘Portret\, Sport en Evenementen (PSE)’.
URL:https://www.cameraclubwageningen.nl/event/werkgroep-pse-2025-1/
LOCATION:Tuindorp (Grote zaal)\, Floralaan 20b\, 6707 HR WAGENINGEN
CATEGORIES:Werkgroep Portret-Sport-Evenementen (PSE),Werkgroepavond
ATTACH;FMTTYPE=image/jpeg:https://www.cameraclubwageningen.nl/wordpress/wp-content/uploads/2025/08/P5180171-2.jpg
END:VEVENT
BEGIN:VEVENT
DTSTART;TZID=Europe/Amsterdam:20250527T200000
DTEND;TZID=Europe/Amsterdam:20250527T223000
DTSTAMP:20260424T040336
CREATED:20241029T091505Z
LAST-MODIFIED:20241029T091637Z
UID:8350-1748376000-1748385000@www.cameraclubwageningen.nl
SUMMARY:Resultaten Werkgroepen
DESCRIPTION:[Foto: Marcus Hemminga] \nDe werkgroepen presenteren het werk dat zij over het afgelopen seizoen hebben gemaakt.
URL:https://www.cameraclubwageningen.nl/event/resultaten-werkgroepen-2/
LOCATION:Tuindorp (Grote zaal)\, Floralaan 20b\, 6707 HR WAGENINGEN
CATEGORIES:Clubavond,Werkgroep Creatief,Werkgroep Natuur,Werkgroep Portret-Sport-Evenementen (PSE),Werkgroep Stedelijk
ATTACH;FMTTYPE=image/jpeg:https://www.cameraclubwageningen.nl/wordpress/wp-content/uploads/2024/09/FvdM_2409-Marcus_CCW.jpg
END:VEVENT
BEGIN:VEVENT
DTSTART;TZID=Europe/Amsterdam:20250325T200000
DTEND;TZID=Europe/Amsterdam:20250325T223000
DTSTAMP:20260424T040336
CREATED:20240903T141948Z
LAST-MODIFIED:20240903T141948Z
UID:8265-1742932800-1742941800@www.cameraclubwageningen.nl
SUMMARY:Werkgroepavond 'Portret-Sport-Evenementen' (PSE)
DESCRIPTION:[Foto: Netty van der Steen] \nDe vierde van vier avonden. \nDe werkgroep ‘Portret-Sport-Evenementen’ (PSE) houdt zich bezig met het fotograferen van mensen\, van portretten tot sportende mensen en mensen bij evenementen. Op de werkgroepavonden wordt werk besproken: individueel werk\, maar ook foto’s die in groepsverband gemaakt zijn. Regelmatig worden activiteiten georganiseerd waarbij de leden met bestaand licht of in een studio samen aan de slag gaan of samen evenementen fotograferen. Techniek\, camerainstellingen en belichting zijn vaste onderdelen van gesprek\, maar ook de aansturing van het model is een terugkerend onderwerp. Naast zelf-georganiseerde activiteiten worden leden van de werkgroep ook vaak gevraagd om bij evenementen of voorstellingen te fotograferen. \nN.B. Dit is een werkgroep\, de bijeenkomsten staan in de reguliere agenda. Iedereen mag komen kijken op een avond\, maar alleen de leden van de werkgroep laten foto’s zien. Wil je lid worden? Kom dan naar een werkgroepavond en meld je aan bij de coördinator van de werkgroep.\nEr is een vacature voor de functie van coördinator. Iets voor jou? Neem contact op met het bestuur: cameraclubwageningen@gmail.com.
URL:https://www.cameraclubwageningen.nl/event/werkgroep-portret-sport-evenementen-pse-4-4/
LOCATION:Tuindorp (Grote zaal)\, Floralaan 20b\, 6707 HR WAGENINGEN
CATEGORIES:Werkgroep Portret-Sport-Evenementen (PSE),Werkgroepavond
ATTACH;FMTTYPE=image/jpeg:https://www.cameraclubwageningen.nl/wordpress/wp-content/uploads/2023/09/Netty-van-der-Steen-foto-aug-2023.jpg
END:VEVENT
BEGIN:VEVENT
DTSTART;TZID=Europe/Amsterdam:20250128T200000
DTEND;TZID=Europe/Amsterdam:20250128T223000
DTSTAMP:20260424T040336
CREATED:20240903T141835Z
LAST-MODIFIED:20240903T141835Z
UID:8263-1738094400-1738103400@www.cameraclubwageningen.nl
SUMMARY:Werkgroepavond 'Portret-Sport-Evenementen' (PSE)
DESCRIPTION:[Foto: Netty van der Steen] \nDe derde van vier avonden. \nDe werkgroep ‘Portret-Sport-Evenementen’ (PSE) houdt zich bezig met het fotograferen van mensen\, van portretten tot sportende mensen en mensen bij evenementen. Op de werkgroepavonden wordt werk besproken: individueel werk\, maar ook foto’s die in groepsverband gemaakt zijn. Regelmatig worden activiteiten georganiseerd waarbij de leden met bestaand licht of in een studio samen aan de slag gaan of samen evenementen fotograferen. Techniek\, camerainstellingen en belichting zijn vaste onderdelen van gesprek\, maar ook de aansturing van het model is een terugkerend onderwerp. Naast zelf-georganiseerde activiteiten worden leden van de werkgroep ook vaak gevraagd om bij evenementen of voorstellingen te fotograferen. \nN.B. Dit is een werkgroep\, de bijeenkomsten staan in de reguliere agenda. Iedereen mag komen kijken op een avond\, maar alleen de leden van de werkgroep laten foto’s zien. Wil je lid worden? Kom dan naar een werkgroepavond en meld je aan bij de coördinator van de werkgroep.\nEr is een vacature voor de functie van coördinator. Iets voor jou? Neem contact op met het bestuur: cameraclubwageningen@gmail.com.
URL:https://www.cameraclubwageningen.nl/event/werkgroep-portret-sport-evenementen-pse-3-4/
LOCATION:Tuindorp (Grote zaal)\, Floralaan 20b\, 6707 HR WAGENINGEN
CATEGORIES:Werkgroep Portret-Sport-Evenementen (PSE),Werkgroepavond
ATTACH;FMTTYPE=image/jpeg:https://www.cameraclubwageningen.nl/wordpress/wp-content/uploads/2023/09/Netty-van-der-Steen-foto-aug-2023.jpg
END:VEVENT
END:VCALENDAR