BEGIN:VCALENDAR
VERSION:2.0
PRODID:-//Camera Club Wageningen - ECPv6.15.20//NONSGML v1.0//EN
CALSCALE:GREGORIAN
METHOD:PUBLISH
X-WR-CALNAME:Camera Club Wageningen
X-ORIGINAL-URL:https://www.cameraclubwageningen.nl
X-WR-CALDESC:Evenementen voor Camera Club Wageningen
REFRESH-INTERVAL;VALUE=DURATION:PT1H
X-Robots-Tag:noindex
X-PUBLISHED-TTL:PT1H
BEGIN:VTIMEZONE
TZID:Europe/Amsterdam
BEGIN:DAYLIGHT
TZOFFSETFROM:+0100
TZOFFSETTO:+0200
TZNAME:CEST
DTSTART:20240331T010000
END:DAYLIGHT
BEGIN:STANDARD
TZOFFSETFROM:+0200
TZOFFSETTO:+0100
TZNAME:CET
DTSTART:20241027T010000
END:STANDARD
BEGIN:DAYLIGHT
TZOFFSETFROM:+0100
TZOFFSETTO:+0200
TZNAME:CEST
DTSTART:20250330T010000
END:DAYLIGHT
BEGIN:STANDARD
TZOFFSETFROM:+0200
TZOFFSETTO:+0100
TZNAME:CET
DTSTART:20251026T010000
END:STANDARD
BEGIN:DAYLIGHT
TZOFFSETFROM:+0100
TZOFFSETTO:+0200
TZNAME:CEST
DTSTART:20260329T010000
END:DAYLIGHT
BEGIN:STANDARD
TZOFFSETFROM:+0200
TZOFFSETTO:+0100
TZNAME:CET
DTSTART:20261025T010000
END:STANDARD
BEGIN:DAYLIGHT
TZOFFSETFROM:+0100
TZOFFSETTO:+0200
TZNAME:CEST
DTSTART:20270328T010000
END:DAYLIGHT
BEGIN:STANDARD
TZOFFSETFROM:+0200
TZOFFSETTO:+0100
TZNAME:CET
DTSTART:20271031T010000
END:STANDARD
END:VTIMEZONE
BEGIN:VEVENT
DTSTART;TZID=Europe/Amsterdam:20260421T200000
DTEND;TZID=Europe/Amsterdam:20260421T223000
DTSTAMP:20260424T034554
CREATED:20260323T211819Z
LAST-MODIFIED:20260325T193143Z
UID:9575-1776801600-1776810600@www.cameraclubwageningen.nl
SUMMARY:Werkgroep: Creatief
DESCRIPTION:
URL:https://www.cameraclubwageningen.nl/event/werkgroep-creatief/
CATEGORIES:Werkgroep Creatief,Werkgroepavond
ATTACH;FMTTYPE=image/jpeg:https://www.cameraclubwageningen.nl/wordpress/wp-content/uploads/2025/03/Renk-april.jpg
END:VEVENT
BEGIN:VEVENT
DTSTART;TZID=Europe/Amsterdam:20260224T200000
DTEND;TZID=Europe/Amsterdam:20260224T223000
DTSTAMP:20260424T034554
CREATED:20250812T114810Z
LAST-MODIFIED:20260101T100609Z
UID:8836-1771963200-1771972200@www.cameraclubwageningen.nl
SUMMARY:Werkgroepavond 'Creatief'
DESCRIPTION:[Foto Renk Ruiter]\nDeze avond wordt ingevuld door de Werkgroep ‘Creatief’.\nDe volgende datums in 2026 zijn: 21 april\, 15 september\, 10 november.
URL:https://www.cameraclubwageningen.nl/event/werkgroep-creatief-2026-1/
LOCATION:Tuindorp (Grote zaal)\, Floralaan 20b\, 6707 HR WAGENINGEN
CATEGORIES:Werkgroep Creatief,Werkgroepavond
ATTACH;FMTTYPE=image/jpeg:https://www.cameraclubwageningen.nl/wordpress/wp-content/uploads/2025/08/IMG_5245-d.jpg
END:VEVENT
BEGIN:VEVENT
DTSTART;TZID=Europe/Amsterdam:20251028T200000
DTEND;TZID=Europe/Amsterdam:20251028T223000
DTSTAMP:20260424T034554
CREATED:20250812T115429Z
LAST-MODIFIED:20250812T115429Z
UID:8838-1761681600-1761690600@www.cameraclubwageningen.nl
SUMMARY:Werkgroepavond 'Creatief'
DESCRIPTION:[Foto Marijke van der Giessen]\nDeze avond wordt ingevuld door de Werkgroep ‘Creatief’.
URL:https://www.cameraclubwageningen.nl/event/werkgroep-creatief-2025-2-2/
LOCATION:Tuindorp (Grote zaal)\, Floralaan 20b\, 6707 HR WAGENINGEN
CATEGORIES:Werkgroep Creatief,Werkgroepavond
ATTACH;FMTTYPE=image/jpeg:https://www.cameraclubwageningen.nl/wordpress/wp-content/uploads/2025/08/MvdGP1470818.jpeg
END:VEVENT
BEGIN:VEVENT
DTSTART;TZID=Europe/Amsterdam:20250527T200000
DTEND;TZID=Europe/Amsterdam:20250527T223000
DTSTAMP:20260424T034554
CREATED:20241029T091505Z
LAST-MODIFIED:20241029T091637Z
UID:8350-1748376000-1748385000@www.cameraclubwageningen.nl
SUMMARY:Resultaten Werkgroepen
DESCRIPTION:[Foto: Marcus Hemminga] \nDe werkgroepen presenteren het werk dat zij over het afgelopen seizoen hebben gemaakt.
URL:https://www.cameraclubwageningen.nl/event/resultaten-werkgroepen-2/
LOCATION:Tuindorp (Grote zaal)\, Floralaan 20b\, 6707 HR WAGENINGEN
CATEGORIES:Clubavond,Werkgroep Creatief,Werkgroep Natuur,Werkgroep Portret-Sport-Evenementen (PSE),Werkgroep Stedelijk
ATTACH;FMTTYPE=image/jpeg:https://www.cameraclubwageningen.nl/wordpress/wp-content/uploads/2024/09/FvdM_2409-Marcus_CCW.jpg
END:VEVENT
BEGIN:VEVENT
DTSTART;TZID=Europe/Amsterdam:20250506T200000
DTEND;TZID=Europe/Amsterdam:20250506T223000
DTSTAMP:20260424T034554
CREATED:20240903T140608Z
LAST-MODIFIED:20240903T140608Z
UID:8251-1746561600-1746570600@www.cameraclubwageningen.nl
SUMMARY:Werkgroep 'Creatief'
DESCRIPTION:[Foto: Marijke van der Giessen] \nDe vierde van vier avonden. \nWerkgroep ‘Creatief’\nDeze werkgroep bestaat uit enthousiaste mensen\, die werken aan zelfgekozen thema’s\, twee voor elke bijeenkomst\, 8 thema’s per seizoen. Hoe deze onderwerpen worden weergegeven\, concreet of abstract\, volgens plan\, idee of mening\, is voor elke persoon anders. Daarom is de verrassing elke keer ook weer groot. Alle middelen zijn geoorloofd\, inclusief fotoshoppen.\nJe hoeft niet alleen te werken\, met twee of in een groepje is prima. Op de bijeenkomsten is er ruimte voor individuele vragen\, voor gezamenlijke projecten\, of kan een eigen thema besproken worden\, waar je gedurende het hele seizoen aan werkt en waar je steeds verslag van uitbrengt.\nAl met al een inspirerende werkgroep met ruimte voor allerlei creatieve uitingen \, individueel en in groepsverband. Kortom: voor elk wat wils.\nLaat je verrassen door de opdrachten van deze werkgroep. Iedere bijeenkomst weer een nieuwe verrassing. Bijvoorbeeld het maken van een drieluik\, een beeldrijm\, een warm en een koud portret\, creatieve afdruktechnieken\, beroepen\, textuur\, wit op wit en zwart op zwart\, is het kunst of is het een foto? En zo zijn er nog vele ideeën te verzinnen voor in de pot. Misschien heb je zelf ook wel ideeën\, ze zijn van harte welkom. Iedere keer wordt er één getrokken. Foto’s zullen tussendoor op de website worden geplaatst voor onderlinge reacties. \nN.B. Dit is een werkgroep\, de bijeenkomsten staan in de reguliere agenda. Iedereen mag komen kijken op een avond\, maar alleen de leden van de werkgroep laten foto’s zien. Wil je lid worden? Kom dan naar een werkgroepavond en meld je aan bij de coördinator van de werkgroep.\nCoördinator: Jaap Mons. Vragen?: cameraclubwageningen@gmail.com.
URL:https://www.cameraclubwageningen.nl/event/werkgroep-creatief-4-4/
LOCATION:Tuindorp (Grote zaal)\, Floralaan 20b\, 6707 HR WAGENINGEN
CATEGORIES:Werkgroep Creatief,Werkgroepavond
ATTACH;FMTTYPE=image/jpeg:https://www.cameraclubwageningen.nl/wordpress/wp-content/uploads/2024/08/MvdGIMG_4694.jpeg
END:VEVENT
BEGIN:VEVENT
DTSTART;TZID=Europe/Amsterdam:20250311T200000
DTEND;TZID=Europe/Amsterdam:20250311T223000
DTSTAMP:20260424T034554
CREATED:20240903T140409Z
LAST-MODIFIED:20240903T140452Z
UID:8249-1741723200-1741732200@www.cameraclubwageningen.nl
SUMMARY:Werkgroep 'Creatief'
DESCRIPTION:[Foto: Marijke van der Giessen] \nDe derde van vier avonden. \nWerkgroep ‘Creatief’\nDeze werkgroep bestaat uit enthousiaste mensen\, die werken aan zelfgekozen thema’s\, twee voor elke bijeenkomst\, 8 thema’s per seizoen. Hoe deze onderwerpen worden weergegeven\, concreet of abstract\, volgens plan\, idee of mening\, is voor elke persoon anders. Daarom is de verrassing elke keer ook weer groot. Alle middelen zijn geoorloofd\, inclusief fotoshoppen.\nJe hoeft niet alleen te werken\, met twee of in een groepje is prima. Op de bijeenkomsten is er ruimte voor individuele vragen\, voor gezamenlijke projecten\, of kan een eigen thema besproken worden\, waar je gedurende het hele seizoen aan werkt en waar je steeds verslag van uitbrengt.\nAl met al een inspirerende werkgroep met ruimte voor allerlei creatieve uitingen \, individueel en in groepsverband. Kortom: voor elk wat wils.\nLaat je verrassen door de opdrachten van deze werkgroep. Iedere bijeenkomst weer een nieuwe verrassing. Bijvoorbeeld het maken van een drieluik\, een beeldrijm\, een warm en een koud portret\, creatieve afdruktechnieken\, beroepen\, textuur\, wit op wit en zwart op zwart\, is het kunst of is het een foto? En zo zijn er nog vele ideeën te verzinnen voor in de pot. Misschien heb je zelf ook wel ideeën\, ze zijn van harte welkom. Iedere keer wordt er één getrokken. Foto’s zullen tussendoor op de website worden geplaatst voor onderlinge reacties. \nN.B. Dit is een werkgroep\, de bijeenkomsten staan in de reguliere agenda. Iedereen mag komen kijken op een avond\, maar alleen de leden van de werkgroep laten foto’s zien. Wil je lid worden? Kom dan naar een werkgroepavond en meld je aan bij de coördinator van de werkgroep.\nCoördinator: Jaap Mons. Vragen?: cameraclubwageningen@gmail.com.
URL:https://www.cameraclubwageningen.nl/event/werkgroep-creatief-3-4/
LOCATION:Tuindorp (Grote zaal)\, Floralaan 20b\, 6707 HR WAGENINGEN
CATEGORIES:Werkgroep Creatief,Werkgroepavond
ATTACH;FMTTYPE=image/jpeg:https://www.cameraclubwageningen.nl/wordpress/wp-content/uploads/2024/08/MvdGIMG_4694.jpeg
END:VEVENT
BEGIN:VEVENT
DTSTART;TZID=Europe/Amsterdam:20250114T200000
DTEND;TZID=Europe/Amsterdam:20250114T223000
DTSTAMP:20260424T034555
CREATED:20240820T070435Z
LAST-MODIFIED:20240903T140320Z
UID:8090-1736884800-1736893800@www.cameraclubwageningen.nl
SUMMARY:Werkgroep 'Creatief'
DESCRIPTION:[Foto: Marijke van der Giessen] \nDe tweede van vier avonden. \nWerkgroep ‘Creatief’\nDeze werkgroep bestaat uit enthousiaste mensen\, die werken aan zelfgekozen thema’s\, twee voor elke bijeenkomst\, 8 thema’s per seizoen. Hoe deze onderwerpen worden weergegeven\, concreet of abstract\, volgens plan\, idee of mening\, is voor elke persoon anders. Daarom is de verrassing elke keer ook weer groot. Alle middelen zijn geoorloofd\, inclusief fotoshoppen.\nJe hoeft niet alleen te werken\, met twee of in een groepje is prima. Op de bijeenkomsten is er ruimte voor individuele vragen\, voor gezamenlijke projecten\, of kan een eigen thema besproken worden\, waar je gedurende het hele seizoen aan werkt en waar je steeds verslag van uitbrengt.\nAl met al een inspirerende werkgroep met ruimte voor allerlei creatieve uitingen \, individueel en in groepsverband. Kortom: voor elk wat wils.\nLaat je verrassen door de opdrachten van deze werkgroep. Iedere bijeenkomst weer een nieuwe verrassing. Bijvoorbeeld het maken van een drieluik\, een beeldrijm\, een warm en een koud portret\, creatieve afdruktechnieken\, beroepen\, textuur\, wit op wit en zwart op zwart\, is het kunst of is het een foto? En zo zijn er nog vele ideeën te verzinnen voor in de pot. Misschien heb je zelf ook wel ideeën\, ze zijn van harte welkom. Iedere keer wordt er één getrokken. Foto’s zullen tussendoor op de website worden geplaatst voor onderlinge reacties. \nN.B. Dit is een werkgroep\, de bijeenkomsten staan in de reguliere agenda. Iedereen mag komen kijken op een avond\, maar alleen de leden van de werkgroep laten foto’s zien. Wil je lid worden? Kom dan naar een werkgroepavond en meld je aan bij de coördinator van de werkgroep.\nCoördinator: Jaap Mons. Vragen?: cameraclubwageningen@gmail.com.
URL:https://www.cameraclubwageningen.nl/event/werkgroep-creatief-2-4/
LOCATION:Tuindorp (Grote zaal)\, Floralaan 20b\, 6707 HR WAGENINGEN
CATEGORIES:Werkgroep Creatief,Werkgroepavond
ATTACH;FMTTYPE=image/jpeg:https://www.cameraclubwageningen.nl/wordpress/wp-content/uploads/2024/08/MvdGIMG_4694.jpeg
END:VEVENT
END:VCALENDAR