BEGIN:VCALENDAR
VERSION:2.0
PRODID:-//Camera Club Wageningen - ECPv6.15.20//NONSGML v1.0//EN
CALSCALE:GREGORIAN
METHOD:PUBLISH
X-ORIGINAL-URL:https://www.cameraclubwageningen.nl
X-WR-CALDESC:Evenementen voor Camera Club Wageningen
REFRESH-INTERVAL;VALUE=DURATION:PT1H
X-Robots-Tag:noindex
X-PUBLISHED-TTL:PT1H
BEGIN:VTIMEZONE
TZID:Europe/Amsterdam
BEGIN:DAYLIGHT
TZOFFSETFROM:+0100
TZOFFSETTO:+0200
TZNAME:CEST
DTSTART:20240331T010000
END:DAYLIGHT
BEGIN:STANDARD
TZOFFSETFROM:+0200
TZOFFSETTO:+0100
TZNAME:CET
DTSTART:20241027T010000
END:STANDARD
BEGIN:DAYLIGHT
TZOFFSETFROM:+0100
TZOFFSETTO:+0200
TZNAME:CEST
DTSTART:20250330T010000
END:DAYLIGHT
BEGIN:STANDARD
TZOFFSETFROM:+0200
TZOFFSETTO:+0100
TZNAME:CET
DTSTART:20251026T010000
END:STANDARD
BEGIN:DAYLIGHT
TZOFFSETFROM:+0100
TZOFFSETTO:+0200
TZNAME:CEST
DTSTART:20260329T010000
END:DAYLIGHT
BEGIN:STANDARD
TZOFFSETFROM:+0200
TZOFFSETTO:+0100
TZNAME:CET
DTSTART:20261025T010000
END:STANDARD
END:VTIMEZONE
BEGIN:VEVENT
DTSTART;TZID=Europe/Amsterdam:20251014T200000
DTEND;TZID=Europe/Amsterdam:20251014T223000
DTSTAMP:20260425T183506
CREATED:20250812T113546Z
LAST-MODIFIED:20250812T114422Z
UID:8828-1760472000-1760481000@www.cameraclubwageningen.nl
SUMMARY:Werkgroepavond 'Natuur'
DESCRIPTION:[Foto Norbert Lukkezen]\nDeze avond wordt ingevuld door de Werkgroep ‘Natuur’.
URL:https://www.cameraclubwageningen.nl/event/werkgroep-natuur-2025-1/
LOCATION:Tuindorp (Grote zaal)\, Floralaan 20b\, 6707 HR WAGENINGEN
CATEGORIES:Werkgroep Natuur,Werkgroepavond
ATTACH;FMTTYPE=image/jpeg:https://www.cameraclubwageningen.nl/wordpress/wp-content/uploads/2025/08/2025-08-FvdM-Norbert_Bretagne_1576_A-1.jpg
END:VEVENT
BEGIN:VEVENT
DTSTART;TZID=Europe/Amsterdam:20251028T200000
DTEND;TZID=Europe/Amsterdam:20251028T223000
DTSTAMP:20260425T183506
CREATED:20250812T115429Z
LAST-MODIFIED:20250812T115429Z
UID:8838-1761681600-1761690600@www.cameraclubwageningen.nl
SUMMARY:Werkgroepavond 'Creatief'
DESCRIPTION:[Foto Marijke van der Giessen]\nDeze avond wordt ingevuld door de Werkgroep ‘Creatief’.
URL:https://www.cameraclubwageningen.nl/event/werkgroep-creatief-2025-2-2/
LOCATION:Tuindorp (Grote zaal)\, Floralaan 20b\, 6707 HR WAGENINGEN
CATEGORIES:Werkgroep Creatief,Werkgroepavond
ATTACH;FMTTYPE=image/jpeg:https://www.cameraclubwageningen.nl/wordpress/wp-content/uploads/2025/08/MvdGP1470818.jpeg
END:VEVENT
END:VCALENDAR