BEGIN:VCALENDAR
VERSION:2.0
PRODID:-//Camera Club Wageningen - ECPv6.15.20//NONSGML v1.0//EN
CALSCALE:GREGORIAN
METHOD:PUBLISH
X-WR-CALNAME:Camera Club Wageningen
X-ORIGINAL-URL:https://www.cameraclubwageningen.nl
X-WR-CALDESC:Evenementen voor Camera Club Wageningen
REFRESH-INTERVAL;VALUE=DURATION:PT1H
X-Robots-Tag:noindex
X-PUBLISHED-TTL:PT1H
BEGIN:VTIMEZONE
TZID:Europe/Amsterdam
BEGIN:DAYLIGHT
TZOFFSETFROM:+0100
TZOFFSETTO:+0200
TZNAME:CEST
DTSTART:20240331T010000
END:DAYLIGHT
BEGIN:STANDARD
TZOFFSETFROM:+0200
TZOFFSETTO:+0100
TZNAME:CET
DTSTART:20241027T010000
END:STANDARD
BEGIN:DAYLIGHT
TZOFFSETFROM:+0100
TZOFFSETTO:+0200
TZNAME:CEST
DTSTART:20250330T010000
END:DAYLIGHT
BEGIN:STANDARD
TZOFFSETFROM:+0200
TZOFFSETTO:+0100
TZNAME:CET
DTSTART:20251026T010000
END:STANDARD
BEGIN:DAYLIGHT
TZOFFSETFROM:+0100
TZOFFSETTO:+0200
TZNAME:CEST
DTSTART:20260329T010000
END:DAYLIGHT
BEGIN:STANDARD
TZOFFSETFROM:+0200
TZOFFSETTO:+0100
TZNAME:CET
DTSTART:20261025T010000
END:STANDARD
BEGIN:DAYLIGHT
TZOFFSETFROM:+0100
TZOFFSETTO:+0200
TZNAME:CEST
DTSTART:20270328T010000
END:DAYLIGHT
BEGIN:STANDARD
TZOFFSETFROM:+0200
TZOFFSETTO:+0100
TZNAME:CET
DTSTART:20271031T010000
END:STANDARD
END:VTIMEZONE
BEGIN:VEVENT
DTSTART;VALUE=DATE:20260215
DTEND;VALUE=DATE:20260402
DTSTAMP:20260424T085849
CREATED:20251230T131357Z
LAST-MODIFIED:20251230T131551Z
UID:9205-1771113600-1775087999@www.cameraclubwageningen.nl
SUMMARY:Foto Individueel (Fotowedstrijd Fotobond)
DESCRIPTION:Foto Individueel 2026\n\n\n\n\nFoto Individueel is een wedstrijd voor alle leden van de Fotobond en wordt sinds 2022 twee maal per jaar georganiseerd. In het voorjaar kunnen maximaal twee foto’s worden ingestuurd voor een van de vier genres\, in het najaar kan één serie per persoon worden ingestuurd. \nTussen 15 februari en 1 april 2026 kan er worden deelgenomen aan de wedstrijd FI 2026 / 1. Er kan worden ingezonden met twee foto’s per lidmaatschapsnummer voor één van de vier genres. De genres zijn evenals het vorige jaar Natuur\, De Mens\, Creatief en Vrij onderwerp. \nRond september staat de wedstrijd FI 2026 / 2 op de agenda\, een wedstrijd voor series. Alle typen series zijn welkom. \nIn het najaar zal er weer een Foto Indivudueel Dag worden georganiseerd\, waarin winnende foto’s en series\, plus als extra een aantal keuzes van de jury\, zullen worden besproken. \nDownload hier het wedstrijdreglement voor Foto Individueel 2026 / 1:\nReglement Foto Individueel \nCoördinator: Rob Gerritsen\ne-mail: fotoindividueel@fotobond.nl \n\n\n\nJe vindt meer informatie op de website van de Fotobond \n 
URL:https://www.cameraclubwageningen.nl/event/werkgroep-creatief-2026-1-2/
LOCATION:Online
CATEGORIES:Fotobond,Fotobondwedstrijd,Fotowedstrijd
ATTACH;FMTTYPE=image/jpeg:https://www.cameraclubwageningen.nl/wordpress/wp-content/uploads/2025/12/Fotobondlogo-oog.jpg
END:VEVENT
BEGIN:VEVENT
DTSTART;TZID=Europe/Amsterdam:20251112T193000
DTEND;TZID=Europe/Amsterdam:20251112T213000
DTSTAMP:20260424T085849
CREATED:20250812T143429Z
LAST-MODIFIED:20250812T143452Z
UID:8864-1762975800-1762983000@www.cameraclubwageningen.nl
SUMMARY:Bespreking en uitslagen Regionale Digitale Fotowedstrijd
DESCRIPTION:Bespreking Regionale Digitale Fotowedstrijd 2025\nDe presentatie zal plaatsvinden op:\nwoensdagavond 12 november 2025 van 19.30 tot 21.30 uur.\nlocatie “De Stek”\, Rijksweg 53\, DUIVEN\n(inloop is vanaf 19.00 uur en de presentatie start stipt om 19:30 uur).\nDeze locatie beschikt over een prachtig groot scherm over de volle breedte van het podium. Wij zullen de ingezonden foto’s daar optimaal projecteren. \nMet vriendelijke groet\,\nFotokring Arnhem\nSerge Gielkens\, Michel Lichtenberg en Robin van der Hijden
URL:https://www.cameraclubwageningen.nl/event/bespreking-en-uitslagen-regionale-digitale-fotowedstrijd/
LOCATION:De Stek\, Rijkseg 53\, DUIVEN
CATEGORIES:Fotowedstrijd
ATTACH;FMTTYPE=image/png:https://www.cameraclubwageningen.nl/wordpress/wp-content/uploads/2025/08/RDF.png
END:VEVENT
BEGIN:VEVENT
DTSTART;TZID=Europe/Amsterdam:20251007T193000
DTEND;TZID=Europe/Amsterdam:20251007T223000
DTSTAMP:20260424T085849
CREATED:20250812T142902Z
LAST-MODIFIED:20250812T142938Z
UID:8859-1759865400-1759876200@www.cameraclubwageningen.nl
SUMMARY:Vijf met Samenhang (bespreking)
DESCRIPTION:Ook dit jaar wil Fotoclub de Oude IJssel uit Doetinchem de jaarlijkse bespreking organiseren.\nFotobondmentor Jan Nabuurs zal de series bespreken en ook een aantal fotografen uitnodigen deel te nemen aan de selectie voor Foto Nationaal. \nlet op!\n\nLever uiterlijk dinsdag 23 september de beelden digitaal aan voor de projectie! e-mail de foto’s naar: coen@heveling.com.\nNeem op de avond zelf de foto’s afgedrukt mee: de foto’s moeten zelfstandig kunnen staan op het presentatiebord\,\nbij voorkeur 30×40 cm. in passepartout 40×50 cm.\nHulp nodig bij het afdrukken? Ik kan helpen voor de prijzen waarvoor ik ook voor onze club afdruk: Kijk hier voor de voorwaarden.\n\nLaat uiterlijk 23 september 2025 weten hoeveel stoelen we per club mogen klaarzetten (coen@heveling.com) \nwanneer?\nDinsdagavond 7 oktober 2025\nZaal open om 19.30 uur\, aanvang 20.00 uur \nwaar?\nZaal Teunissen\,\nHoofdstraat 2\,\n7035 AK  KILDER
URL:https://www.cameraclubwageningen.nl/event/vijf-met-samenhang-bespreking/
LOCATION:Zaal Teunissen\, Hoofdstraat 2\, KILDER\, 7035 AK
CATEGORIES:Fotowedstrijd
ATTACH;FMTTYPE=image/jpeg:https://www.cameraclubwageningen.nl/wordpress/wp-content/uploads/2025/08/Vijf-met-samenhang.jpg
END:VEVENT
BEGIN:VEVENT
DTSTART;VALUE=DATE:20250817
DTEND;VALUE=DATE:20250818
DTSTAMP:20260424T085849
CREATED:20250812T141321Z
LAST-MODIFIED:20250812T141321Z
UID:8854-1755388800-1755475199@www.cameraclubwageningen.nl
SUMMARY:Eerste landelijke wedstrijd dronefoto's
DESCRIPTION:De Landelijke Groep Dronefotografie van de Koninklijke Nederlandse Fotobond organiseert deze zomer een fotowedstrijd voor alle leden van de Fotobond.\nHet fotograferen met een drone is populair bij veel fotografen. Het biedt mogelijkheden in de fotografie die je met een gewone camera niet kunt realiseren. Steeds vaker zien we daarom ook inzendingen van dronefoto’s bij fotowedstrijden. Hoog tijd dus dat de Koninklijke Nederlandse Fotobond een fotowedstrijd organiseert alleen voor dronefoto’s. De wedstrijd wordt door de Landelijke Groep Dronefotografie georganiseerd. Het thema is vrij mits het een duidelijke dronefoto is. Gebruik van AI is niet toegestaan. De wedstrijdcommissie van de Landelijke Groep beoordeelt de ingezonden foto’s en controleren of ze aan de richtlijnen voldoen. Uit alle inzendingen worden 50 foto’s geselecteerd. Deze 50 foto’s worden door de Jury beoordeeld. De Jury bestaat uit: dronefotograaf\, schrijver en oprichter van Dronewatch Wiebe de Jager en de zeer getalenteerde drone fotograaf Paul Beckers.\nIedereen die lid is van de Fotobond\, zowel individuele leden als leden die via hun fotoclub lid zijn\, mogen één foto insturen. Deze moet binnen zijn op zondag 17 augustus 2025. \nSpelregels\n● Je dient lid te zijn van de Fotobond\n● De foto dient duidelijk zichtbaar te zijn gemaakt met een drone\n● Leden van de Landelijke Groep Dronefotografie zijn uitgesloten van deelname\n● Dronefoto’s waarbij duidelijk blijkt dat de vigerende regels voor het vliegen met drones zijn overtreden\, worden uitgesloten van deelname\n● Het gebruik van AI om foto’s te genereren dan wel te manipuleren wordt niet toegestaan\n● De inzending moet een als titel de volgende opmaak hebben: “Fotobond lidnummer (7 posities)\, koppelteken\, naam fotograaf (max. 20 posities)\, koppelteken en titel foto (max. 20 posities). Bijvoorbeeld: 1901007-Pietje Puk-kerk bij mist\n● Het ingezonden bestand mag niet groter zijn dan 4Mb\, en lange zijde niet meer dan 2000 pixels \nDe foto’s worden beoordeeld op:\n● Originaliteit\n● Uitvoering\, zoals: gekozen kader\, licht gebruik\, techniek \nMeedoen? Stuur je foto uiterlijk 17 augustus op naar: dronefotowedstrijd2025@gmail.com\nDe winnaar van de fotowedstrijd wordt eind september bekendgemaakt. Op de website van de Koninklijke Nederlandse Fotobond.\nVoor meer informatie:fotobond.nl/landelijke_groepen/drones/
URL:https://www.cameraclubwageningen.nl/event/eerste-landelijke-wedstrijd-dronefotos/
LOCATION:Online
CATEGORIES:Fotowedstrijd
ATTACH;FMTTYPE=image/jpeg:https://www.cameraclubwageningen.nl/wordpress/wp-content/uploads/2025/08/Bloesem-Drone-GA-20250419-DJI_0092.jpg
END:VEVENT
END:VCALENDAR