BEGIN:VCALENDAR
VERSION:2.0
PRODID:-//Camera Club Wageningen - ECPv6.15.20//NONSGML v1.0//EN
CALSCALE:GREGORIAN
METHOD:PUBLISH
X-ORIGINAL-URL:https://www.cameraclubwageningen.nl
X-WR-CALDESC:Evenementen voor Camera Club Wageningen
REFRESH-INTERVAL;VALUE=DURATION:PT1H
X-Robots-Tag:noindex
X-PUBLISHED-TTL:PT1H
BEGIN:VTIMEZONE
TZID:Europe/Amsterdam
BEGIN:DAYLIGHT
TZOFFSETFROM:+0100
TZOFFSETTO:+0200
TZNAME:CEST
DTSTART:20240331T010000
END:DAYLIGHT
BEGIN:STANDARD
TZOFFSETFROM:+0200
TZOFFSETTO:+0100
TZNAME:CET
DTSTART:20241027T010000
END:STANDARD
BEGIN:DAYLIGHT
TZOFFSETFROM:+0100
TZOFFSETTO:+0200
TZNAME:CEST
DTSTART:20250330T010000
END:DAYLIGHT
BEGIN:STANDARD
TZOFFSETFROM:+0200
TZOFFSETTO:+0100
TZNAME:CET
DTSTART:20251026T010000
END:STANDARD
BEGIN:DAYLIGHT
TZOFFSETFROM:+0100
TZOFFSETTO:+0200
TZNAME:CEST
DTSTART:20260329T010000
END:DAYLIGHT
BEGIN:STANDARD
TZOFFSETFROM:+0200
TZOFFSETTO:+0100
TZNAME:CET
DTSTART:20261025T010000
END:STANDARD
BEGIN:DAYLIGHT
TZOFFSETFROM:+0100
TZOFFSETTO:+0200
TZNAME:CEST
DTSTART:20270328T010000
END:DAYLIGHT
BEGIN:STANDARD
TZOFFSETFROM:+0200
TZOFFSETTO:+0100
TZNAME:CET
DTSTART:20271031T010000
END:STANDARD
END:VTIMEZONE
BEGIN:VEVENT
DTSTART;VALUE=DATE:20251207
DTEND;VALUE=DATE:20260119
DTSTAMP:20260424T094916
CREATED:20251230T223153Z
LAST-MODIFIED:20251230T223153Z
UID:9210-1765065600-1768780799@www.cameraclubwageningen.nl
SUMMARY:Expositie Fotokring de Liemers Zevenaar
DESCRIPTION:Expositie ‘Ik zie ik zie …’ van fotokring De Liemers in de Turmac Cultuurfabriek\nEen jaar lang hebben 23 leden van Fotokring De Liemers toegewerkt naar een fototentoonstelling in de Turmac Cultuurfabriek. Van 7 december tot en met 18 januari zijn hun foto’s daar te zien. Al het werk hangt in voor het publiek toegankelijke ruimtes\, waardoor het altijd als het gebouw geopend is bekeken kan worden.\n\nDe titel van de expositie is ‘Ik zie ik zie …’ Dat verwijst naar de intensieve manier van kijken die fotografen eigen is\, en ook naar het raadspelletje dat uitdaagt goed naar de omgeving te kijken. De 23 leden van De Liemers hebben dat met veel inspanning en aandacht gedaan.\n\nEen breed spectrum aan onderwerpen en stijlen komt voorbij. Zo wordt de natuur verbeeld met naar abstractie neigende beelden\, maar ook met een kritische blik naar plastic-afval in de natuur. Grote zwart-witportretten staan tegenover kleine afbeeldingen\, die een wandeling verbeelden door de binnenlanden van Spanje.\n\nOok wordt de kijker meegenomen in fantasiewerelden. Dat kunnen stillevens zijn met vergankelijke elementen\, maar ook kunstmatige werelden die iets vertellen over een actueel onderwerp als algoritmen die ons leven bepalen. Ook een verzameling foto’s van eenzame stoelen kan verwondering wekken.\nZevenaar wordt verbeeld met een installatie waarin alle Kerkstraten uit de gemeente voorkomen. En ook met dubbelbeelden van bekende plekken in de stad. De grote mate van afwisseling is een sterk punt van de expositie.\n\nwanneer?\nzondag 7 december 2025 t/m zondag 18 januari 2026\nmaandag t/m donderdag: 08.30-22.30 uur\nvrijdag: 08.30-17.00 uur + 19.00-22.30 uur\nzaterdag en zondag: 13.00-22.30 uur\n\nwaar?\nTurmac Cultuurfabriek\nKerkstraat 27\n6901 AA  ZEVENAAR\nDe Turmac Cultuurfabriek is gevestigd aan de Kerkstraat 27 in Zevenaar.\nZie voor bereikbaarheid https://www.turmaccultuurfabriek.nl/contact/#parkeren
URL:https://www.cameraclubwageningen.nl/event/expositie-fotokring-de-liemers-zevenaar/
CATEGORIES:Foto-expositie
ATTACH;FMTTYPE=image/png:https://www.cameraclubwageningen.nl/wordpress/wp-content/uploads/2025/12/Liemers-expo-2025.png
END:VEVENT
BEGIN:VEVENT
DTSTART;VALUE=DATE:20250912
DTEND;VALUE=DATE:20251025
DTSTAMP:20260424T094916
CREATED:20250831T083516Z
LAST-MODIFIED:20250831T083624Z
UID:8901-1757635200-1761350399@www.cameraclubwageningen.nl
SUMMARY:De Oude IJssel exposeert
DESCRIPTION:Fotoclub De Oude IJssel Doetinchem exposeert al diverse jaren bij Hotel Villa Ruimzicht in Doetinchem. Ook dit jaar vindt u hen daar weer\, en wel van 12 september t/m 24 oktober 2025. De buitenfoto-expositie\, bestaande uit grote (ca.150×100 cm) doeken\, vindt u in het Arboretum bij het hotel.\nDe expositie wordt op 12 september om 17.00 uur geopend\, en is zoals gewoonlijk gratis toegankelijk. \nwanneer?\nvr 12 september t/m vr 24 oktober 2025\nwaar?\nHotel Villa Ruimzicht\nHet Arboretum\nRuimzichtlaan 150\n7001 KG DOETINCHEM
URL:https://www.cameraclubwageningen.nl/event/de-oude-ijssel-exposeert/
LOCATION:Hotel Villa Ruimzicht\, Ruimzichtlaan 150\, DOETINCHEM\, 7001 KG
CATEGORIES:Foto-expositie
ATTACH;FMTTYPE=image/jpeg:https://www.cameraclubwageningen.nl/wordpress/wp-content/uploads/2025/08/Oude-IJssel-2025.jpg
END:VEVENT
BEGIN:VEVENT
DTSTART;VALUE=DATE:20250829
DTEND;VALUE=DATE:20251031
DTSTAMP:20260424T094916
CREATED:20251024T091437Z
LAST-MODIFIED:20251024T091510Z
UID:9075-1756425600-1761868799@www.cameraclubwageningen.nl
SUMMARY:Expositie DE ZOMER LEEFT - PETER VAN TUIJL
DESCRIPTION:De zomer is geen seizoen\, het is een ritme. Een cadans van zinderende straten\, plakkende ijsjes\, klaterende kinderen\, zonnebrand op schouders en gesprekken die net iets langer duren dan anders. In deze expositie is de zomer niet geretoucheerd\, niet gestileerd – maar gevangen zoals zij werkelijk is: luidruchtig\, kleurrijk\, rommelig en onweerstaanbaar levendig.\nDe camera dwaalt door steden\, over stranden\, langs markten en terrassen. Ze kijkt\, glimlacht soms\, en registreert met gevoel. Mensen zijn zichzelf\, geven zich over aan de zomerzon. Een handdoek als troon\, een plastic tas als strandtas\, zonnebrillen als maskers. De beelden zijn een knipoog\, geen oordeel. Een eerbetoon aan de schoonheid van het alledaagse\, in al haar rauwe en warme eerlijkheid. \nGeïnspireerd door de ironie van Martin Parr en de brutale eerlijkheid van William Klein\, wil deze expositie je geen zomer laten zien – het wil je de zomer laten voelen. De geur van zonnebrand\, het geluid van slippers op asfalt\, de tinteling van warmte op de huid. \nWelkom in de energie van de zomer. \n\nWanneer?\n29 augustus t/m 30 oktober 2025\ndi-wo 19.00-01.00 uur\ndo 16.00-01.00 uur\nvr-za 14.00-02.00 uur\nzo 14.00-01.00 uur \nLocatie: FOTOkabinet Oerkroeg Schiller Prinsenstraat 4 Aalten \nPostcode: 7121 AG
URL:https://www.cameraclubwageningen.nl/event/expositie-de-zomer-leeft-peter-van-tuijl/
LOCATION:FotoKabinet Oerkroeg Schiller\, Prinsenstraat 4\, AALTEN\, 7121 AG
CATEGORIES:Foto-expositie
ATTACH;FMTTYPE=image/webp:https://www.cameraclubwageningen.nl/wordpress/wp-content/uploads/2025/10/De-zomer-leeft_Peter-van-Tuijl-1024x1280-1.webp
END:VEVENT
BEGIN:VEVENT
DTSTART;VALUE=DATE:20250829
DTEND;VALUE=DATE:20250830
DTSTAMP:20260424T094916
CREATED:20250829T070350Z
LAST-MODIFIED:20250829T070620Z
UID:8871-1756425600-1756511999@www.cameraclubwageningen.nl
SUMMARY:'De zomer leeft' expositie Peter van TuijlAALTEN
DESCRIPTION:[Foto Peter van Tuijl] \nExpositie Peter van Tuijl in het FOTOkabinet\nDe zomer is geen seizoen\, het is een ritme. Een cadans van zinderende straten\, plakkende ijsjes\, klaterende kinderen\, zonnebrand op schouders en gesprekken die net iets langer duren dan anders. In deze expositie is de zomer niet geretoucheerd\, niet gestileerd – maar gevangen zoals zij werkelijk is: luidruchtig\, kleurrijk\, rommelig en onweerstaanbaar levendig.\nDe camera dwaalt door steden\, over stranden\, langs markten en terrassen. Ze kijkt\, glimlacht soms\, en registreert met gevoel. Mensen zijn zichzelf\, geven zich over aan de zomerzon. Een handdoek als troon\, een plastic tas als strandtas\, zonnebrillen als maskers. De beelden zijn een knipoog\, geen oordeel. Een eerbetoon aan de schoonheid van het alledaagse\, in al haar rauwe en warme eerlijkheid. \nGeïnspireerd door de ironie van Martin Parr en de brutale eerlijkheid van William Klein\, wil deze expositie je geen zomer laten zien – het wil je de zomer laten voelen. De geur van zonnebrand\, het geluid van slippers op asfalt\, de tinteling van warmte op de huid. \nWelkom in de energie van de zomer. \nFotoKabinet is een initiatief van Oerkroeg Schiller samen met het OFKC. De groep die ervaring heeft met het exposeren in een museale omgeving ziet het als een uitdaging om binnen de sfeer van een kroeg mooie exposities te realiseren. Het OFKC bestaat uit fotografen en kunstenaars die al dan niet beroepsmatig werkzaam zijn. Ieder lid heeft zijn of haar eigen specialisatie en werkt vanuit eigen interesse. \nwaar?\nFotoKabinet\nOerkroeg Schiller\,\nPrinsenstraat 4\,\n7121 AG  AALTEN\nwanneer?\n 29 augustus – 30 oktober 2025\nDinsdag en woensdag 19.00 – 01.00 uur\nDonderdag 16.00 – 01.00 uur\nVrijdag en zaterdag 14.00 – 02.00 uur\nZondag 14.00 – 01.00 uur \nO F K C\nDinie Wikkerink\n06 – 26 21 43 78\ndinie.wikkerink@gmail.com\nwww.ofkc.nl
URL:https://www.cameraclubwageningen.nl/event/de-zomer-leeft-expositie-peter-van-tuijlaalten/
CATEGORIES:Foto-expositie
ATTACH;FMTTYPE=image/webp:https://www.cameraclubwageningen.nl/wordpress/wp-content/uploads/2025/08/De-zomer-leeft_Peter-van-Tuijl-1024x1280-1.webp
END:VEVENT
BEGIN:VEVENT
DTSTART;VALUE=DATE:20250614
DTEND;VALUE=DATE:20250616
DTSTAMP:20260424T094916
CREATED:20250530T082724Z
LAST-MODIFIED:20250530T082956Z
UID:8567-1749859200-1750031999@www.cameraclubwageningen.nl
SUMMARY:Foto-expositie 'Nijmegen\, mijn stad\, mijn thuis'
DESCRIPTION:‘Je thuis voelen’\, is dat verbonden aan een bepaalde plaats\, of is het een gevoel dat je met je meedraagt? Wat maakt dat je je ergens thuis voelt en is dat voor jou hetzelfde als voor mij? \nVan half februari tot half mei 2025 werkten Nijmeegse vrijetijdsfotografen\, begeleid door een professioneel fotograaf en een coach\, aan het thema ‘Nijmegen\, mijn stad\, mijn thuis’. Ze stonden stil bij de vraag wat ‘je thuis voelen’ voor hen betekent\, wat ze daarover wilden vertellen en hoe ze dat in beeld konden brengen. \nDe expositie toont 27 fotoverhalen waarin de fotografen – elk met een persoonlijk en uniek perspectief – het abstracte begrip ‘thuis voelen’ tot leven brengen. De expositie is niet alleen interessant voor Nijmegenaren\, maar voor iedereen die zich wel eens afvraagt wat ‘je thuis voelen’ voor hem of haar betekent. \nwanneer\n14 en 15 juni\, van 11.00 tot 17.00 uur\nwaar\nDe Vasim\,\nWinselingseweg 41\,\n6541 AH NIJMEGEN\nparkeren\nLatensteinweg en De Kolk\ntoegang\ngratis \nDe meeste recente informatie vind je hier op de site van de Fotobond
URL:https://www.cameraclubwageningen.nl/event/foto-expositie-nijmegen-mijn-stad-mijn-thuis/
LOCATION:De Vasim\, Wisselingseweg 41\, NIJMEGEN\, 6541 AH
CATEGORIES:Foto-expositie
ATTACH;FMTTYPE=image/jpeg:https://www.cameraclubwageningen.nl/wordpress/wp-content/uploads/2025/05/AFFICHE-Nijmegen-mijn-stad-mijn-thuis.jpg
END:VEVENT
BEGIN:VEVENT
DTSTART;TZID=Europe/Amsterdam:20250613T103000
DTEND;TZID=Europe/Amsterdam:20250706T170000
DTSTAMP:20260424T094916
CREATED:20250529T144620Z
LAST-MODIFIED:20250529T145036Z
UID:8557-1749810600-1751821200@www.cameraclubwageningen.nl
SUMMARY:Foto Festival Naarden
DESCRIPTION:FFN 2025\n13 juni – 6 juli \nWat als we een extra paar ogen hadden? Ogen waarmee we de wereld konden zien door de lens van een ander. \nHet Fotofestival Naarden nodigt je uit om precies dát te doen\, met het meerjarige programma:\nKijken door de lens van een ander. \nDit programma speelt in op een verlangen dat we allemaal delen: meer begrip voor andermans perspectieven en het ontwikkelen van empathie. \nThema 2025: Thuis\nWat betekent ‘thuis’? Is het een fysieke plek\, een vertrouwde geur\, een gevoel van samenzijn\, of een uiting van cultuur? \nTijdens FFN 2025 verkennen fotografen dit begrip vanuit talloze invalshoeken. Hun beelden nodigen je uit om stil te staan bij de verschillen én overeenkomsten in hoe we thuis ervaren – cultureel\, persoonlijk en maatschappelijk. \nLaat je inspireren\, verrijk je kijk op de wereld\, en ontdek nieuwe verhalen. Welkom thuis\, bij FFN 2025. \nOpeningstijden: dagelijks 10:30 – 17:00 | Maandags gesloten \nWebsite Foto Festival Naarden
URL:https://www.cameraclubwageningen.nl/event/foto-festival-naarden/
LOCATION:Naarden
CATEGORIES:Foto-expositie
ATTACH;FMTTYPE=image/png:https://www.cameraclubwageningen.nl/wordpress/wp-content/uploads/2025/05/Foto-Festival-Naarden-2025.png
END:VEVENT
BEGIN:VEVENT
DTSTART;TZID=Europe/Amsterdam:20250524T100000
DTEND;TZID=Europe/Amsterdam:20250525T170000
DTSTAMP:20260424T094916
CREATED:20250430T220354Z
LAST-MODIFIED:20250430T223617Z
UID:8509-1748080800-1748192400@www.cameraclubwageningen.nl
SUMMARY:Expositie Jan PrinsLENT
DESCRIPTION:Jan Prins toont beelden uit de serie: \n‘ALTIJD MET WAT WAS’\nOver het verwerken van een religieus verleden \nwanneer?\nzaterdag 24 en zondag 25 mei 2025\nvan 10.00-17.00 uur\nwaar?
URL:https://www.cameraclubwageningen.nl/event/expositie-jan-prinslent/
CATEGORIES:Foto-expositie
ATTACH;FMTTYPE=image/jpeg:https://www.cameraclubwageningen.nl/wordpress/wp-content/uploads/2025/05/affiche_expositie_Jan_Prins-2025-05-24_25.jpg
END:VEVENT
BEGIN:VEVENT
DTSTART;VALUE=DATE:20250521
DTEND;VALUE=DATE:20250608
DTSTAMP:20260424T094916
CREATED:20250529T142215Z
LAST-MODIFIED:20250529T142336Z
UID:8554-1747785600-1749340799@www.cameraclubwageningen.nl
SUMMARY:Grote Fotobond-expositieDEVENTER
DESCRIPTION:Grote Fotobond-expositie in de Lebuinuskerk Deventer: 21 mei t/m 7 juni 2025 \nEen unieke expositie van de winnende foto’s van de Bondsfotowedstrijd\, Foto Nationaal\, Foto Individueel en Foto Online\, aangevuld met een selectie van de coördinatoren. \nOpening is op woensdag 21 mei om 19.00 uur. Op zaterdag 31 mei presenteren de Landelijke Genregroepen zich hier tijdens in de Dag FotoDag. \nKijk voor de meest recente informatie op het platform op de website van de Fotobond.
URL:https://www.cameraclubwageningen.nl/event/grote-fotobond-expositiedeventer/
CATEGORIES:Foto-expositie,Fotobond
ATTACH;FMTTYPE=image/webp:https://www.cameraclubwageningen.nl/wordpress/wp-content/uploads/2025/05/Expositie-Deventer-Foto-Kring-in-de-Lebuinuskerk-foto-1024x682.jpg.webp
END:VEVENT
BEGIN:VEVENT
DTSTART;TZID=Europe/Amsterdam:20250430T090000
DTEND;TZID=Europe/Amsterdam:20250530T200000
DTSTAMP:20260424T094916
CREATED:20250417T070905Z
LAST-MODIFIED:20250529T150034Z
UID:8495-1746003600-1748635200@www.cameraclubwageningen.nl
SUMMARY:Clubexpositie 'Wabi Sabi'
DESCRIPTION:Jaarthema-expositie Camera Club Wageningen Wabi Sabi\n‘Wabi Sabi’\nWabi betekent eenvoud en bescheidenheid\, terwijl Sabi staat voor het vinden van schoonheid in vergankelijkheid en verandering. Samen drukken deze woorden de kern van de Wabi Sabi-filosofie uit\, namelijk het omarmen van imperfectie en het vinden van schoonheid in het alledaagse en onvolmaakte. \nwanneer?\nDe expositie is te bekijken van 30 april t/m 30 mei 2025\nopeningstijden?\nmaandag t/m vrijdag: 09.00 – 20.00 uur\nzaterdag: 09.00 – 17.00 uur\ngesloten?\nMaandag 5 mei (Bevrijdingsdag)\nDonderdag 29 mei (Hemelvaartsdag)\nwaar?\nde  bblthk\nStationsstraat 2\n6701 AM  WAGENINGEN \nOver Camera Club Wageningen:\nCamera Club Wageningen is in mei 1968 opgericht als Dia- en Fotoclub en maakte rond 2000 de omslag naar digitale fotografie. De leden laten zich graag inspireren door elkaars werk (kritisch opbouwend) te bespreken. Ook worden bekende fotografen uitgenodigd\, die over hun werk vertellen en mentoraten geven. De leden ontmoeten elkaar op de clubavonden in Tuindorp (zo’n 20 dinsdagavonden per jaar). De thema’s Natuur\, Stedelijk\, Creatief en Portret\, Sport en Evenementen krijgen extra aandacht in vier werkgroepen\, die elk op vier werkgroepavonden per jaar bijeenkomen. Ook worden regelmatig foto-excursies georganiseerd. Conceptuele fotografie met individuele projecten vindt plaats in een huiskamergroep\, evenals De Verkenners. Deze laatste groep oriënteert zich op wat er in het land aan vernieuwende vormen van fotografie is te vinden. \nKennismaken?\nMail naar Cameraclubwageningen@gmail.com als je een keer vrijblijvend een clubavond wilt bezoeken. \nOver Betty van Engelen (jury)\nBetty van Engelen houdt er van onbevangen\, met open hart en opmerkzaam naar de alledaagse schoonheid van de wereld te kijken. Dat is voor haar vreugdevol en helend. Betty beoogt met haar foto’s mensen in beweging te brengen\, anders naar de wereld te laten kijken. \nBekijk haar bijzondere portfolio op haar website https://www.bettyvanengelen.nl/
URL:https://www.cameraclubwageningen.nl/event/clubexpositie-wabi-sabi/
LOCATION:de bblthk\, Stationstraat 2\, WAGENINGEN\, 6701 AM
CATEGORIES:Foto-expositie
ATTACH;FMTTYPE=image/jpeg:https://www.cameraclubwageningen.nl/wordpress/wp-content/uploads/2025/04/EXPO_Tastes-of-Community-.jpg
END:VEVENT
BEGIN:VEVENT
DTSTART;TZID=Europe/Amsterdam:20250425T100000
DTEND;TZID=Europe/Amsterdam:20250427T170000
DTSTAMP:20260424T094916
CREATED:20241029T090826Z
LAST-MODIFIED:20250417T074518Z
UID:8345-1745575200-1745773200@www.cameraclubwageningen.nl
SUMMARY:Inleveren foto's voor 'Wabi Sabi'
DESCRIPTION:We exposeren het jaarthema ‘Wabi Sabi’ in de maand mei in de bblthk. Op 29 april wordt de expositie geopend en de winnaar bekendgemaakt. Aanvang 19.30\, in de bblthk\, Stationsstraat 2\, Wageningen. De rest van de avond is vrij (geen Tuindorp). Ieder lid kan twee foto’s inleveren voor de expositie. Deze doen automatisch ook mee aan de wedstrijd.\nDe foto´s dienen te zijn ingelijst in de gebruikelijke aluminium-lijsten van 40 x 50 cm\, met een deugdelijk ophangmechanisme. Heb je deze lijsten zelf niet\, dan kun je gebruik maken van clublijsten (te bevragen bij het bestuur).\nFoto´s graag in passe partouts\, een goed adres hiervoor is Galerie Zuid in Harskamp.\nJe kunt je foto’s inleveren bij Carleen van den Anker\, Ceresstraat 19 Wageningen (wijkje bij de molen).\nDit kan op vrijdag 25 april (middag en avond)\, op zaterdag 26 april (middag en avond) en op zondag 27 april (middag en avond). Vooraf melden wanneer je langskomt is niet nodig.  
URL:https://www.cameraclubwageningen.nl/event/buitenfotografie/
LOCATION:Tuindorp (Grote zaal)\, Floralaan 20b\, 6707 HR WAGENINGEN
CATEGORIES:Foto-expositie
ATTACH;FMTTYPE=image/jpeg:https://www.cameraclubwageningen.nl/wordpress/wp-content/uploads/2017/09/Logo-CCW-2017-RGB-e1504471310928.jpg
END:VEVENT
END:VCALENDAR