BEGIN:VCALENDAR
VERSION:2.0
PRODID:-//Camera Club Wageningen - ECPv6.15.20//NONSGML v1.0//EN
CALSCALE:GREGORIAN
METHOD:PUBLISH
X-WR-CALNAME:Camera Club Wageningen
X-ORIGINAL-URL:https://www.cameraclubwageningen.nl
X-WR-CALDESC:Evenementen voor Camera Club Wageningen
REFRESH-INTERVAL;VALUE=DURATION:PT1H
X-Robots-Tag:noindex
X-PUBLISHED-TTL:PT1H
BEGIN:VTIMEZONE
TZID:Europe/Amsterdam
BEGIN:DAYLIGHT
TZOFFSETFROM:+0100
TZOFFSETTO:+0200
TZNAME:CEST
DTSTART:20250330T010000
END:DAYLIGHT
BEGIN:STANDARD
TZOFFSETFROM:+0200
TZOFFSETTO:+0100
TZNAME:CET
DTSTART:20251026T010000
END:STANDARD
BEGIN:DAYLIGHT
TZOFFSETFROM:+0100
TZOFFSETTO:+0200
TZNAME:CEST
DTSTART:20260329T010000
END:DAYLIGHT
BEGIN:STANDARD
TZOFFSETFROM:+0200
TZOFFSETTO:+0100
TZNAME:CET
DTSTART:20261025T010000
END:STANDARD
BEGIN:DAYLIGHT
TZOFFSETFROM:+0100
TZOFFSETTO:+0200
TZNAME:CEST
DTSTART:20270328T010000
END:DAYLIGHT
BEGIN:STANDARD
TZOFFSETFROM:+0200
TZOFFSETTO:+0100
TZNAME:CET
DTSTART:20271031T010000
END:STANDARD
END:VTIMEZONE
BEGIN:VEVENT
DTSTART;TZID=Europe/Amsterdam:20260303T200000
DTEND;TZID=Europe/Amsterdam:20260303T223000
DTSTAMP:20260424T115159
CREATED:20251229T073252Z
LAST-MODIFIED:20260220T191039Z
UID:9175-1772568000-1772577000@www.cameraclubwageningen.nl
SUMMARY:Opnieuw gepland - Spreker Bianca Pauline
DESCRIPTION:Het is gelukt om de presentatie door Bianca Pauline te herplannen!! \nTitel: Indrukwekkende beeldtaal met maskers van fotografisch artiest Bianca Pauline \nDe Camera Club Wageningen nodigt u graag uit voor een presentatie van het eigen werk door fotografisch artiest Bianca Pauline. \nZij maakt indrukwekkende beeldtaal met haar unieke handgemaakte maskers. Haar kunst vraagt om verder te kijken dan alleen het plaatje en je diepere gevoelens te laten spreken. Met maskers kun je je fantasie de vrije loop geven. Het gaat om het spel van dingen laten zien en verbergen\, waardoor een kunstwerk meer betekenis krijgt. Het is een dans van licht en schaduw\, waarbij je de leiding hebt over hoe mensen je kunst zien. \nWil je meer zien van haar werk\, kijk dan alvast op haar website: https://www.biancapauline.nl/ \n  \nAanmelden per mail: Cameraclubwageningen@gmail.com \nAdres: Floralaan 20B 6707 HR Wageningen (Speeltuin Tuindorp) \nEntree € 6\,- (betaling terplaatse alleen gepast contant of met QR-code) \nInloop vanaf 19.30 uur (vriendelijk verzoek op tijd te zijn) \n 
URL:https://www.cameraclubwageningen.nl/event/clubavond-algemeen-2026-4/
LOCATION:Tuindorp (Grote zaal)\, Floralaan 20b\, 6707 HR WAGENINGEN
CATEGORIES:Clubavond,Spreker
ATTACH;FMTTYPE=image/jpeg:https://www.cameraclubwageningen.nl/wordpress/wp-content/uploads/2026/02/Bianca-Pauline-zelfportret-photographic-artist-instagram-maat.jpg
END:VEVENT
END:VCALENDAR