BEGIN:VCALENDAR
VERSION:2.0
PRODID:-//Camera Club Wageningen - ECPv6.15.20//NONSGML v1.0//EN
CALSCALE:GREGORIAN
METHOD:PUBLISH
X-ORIGINAL-URL:https://www.cameraclubwageningen.nl
X-WR-CALDESC:Evenementen voor Camera Club Wageningen
REFRESH-INTERVAL;VALUE=DURATION:PT1H
X-Robots-Tag:noindex
X-PUBLISHED-TTL:PT1H
BEGIN:VTIMEZONE
TZID:Europe/Amsterdam
BEGIN:DAYLIGHT
TZOFFSETFROM:+0100
TZOFFSETTO:+0200
TZNAME:CEST
DTSTART:20240331T010000
END:DAYLIGHT
BEGIN:STANDARD
TZOFFSETFROM:+0200
TZOFFSETTO:+0100
TZNAME:CET
DTSTART:20241027T010000
END:STANDARD
BEGIN:DAYLIGHT
TZOFFSETFROM:+0100
TZOFFSETTO:+0200
TZNAME:CEST
DTSTART:20250330T010000
END:DAYLIGHT
BEGIN:STANDARD
TZOFFSETFROM:+0200
TZOFFSETTO:+0100
TZNAME:CET
DTSTART:20251026T010000
END:STANDARD
BEGIN:DAYLIGHT
TZOFFSETFROM:+0100
TZOFFSETTO:+0200
TZNAME:CEST
DTSTART:20260329T010000
END:DAYLIGHT
BEGIN:STANDARD
TZOFFSETFROM:+0200
TZOFFSETTO:+0100
TZNAME:CET
DTSTART:20261025T010000
END:STANDARD
END:VTIMEZONE
BEGIN:VEVENT
DTSTART;TZID=Europe/Amsterdam:20251031T160000
DTEND;TZID=Europe/Amsterdam:20251031T203000
DTSTAMP:20260423T213541
CREATED:20251009T215834Z
LAST-MODIFIED:20251009T220842Z
UID:9024-1761926400-1761942600@www.cameraclubwageningen.nl
SUMMARY:Canon EOS Roadshow bij Foto Leenarts
DESCRIPTION:Canon EOS Road show\n\n\n \n\nKom ook naar de Canon EOS Roadshow op 31 oktober 2025 bij Foto Leenarts\nOp vrijdag 31 oktober 2025 organiseren we in samenwerking met CANON de EOS Roadshow\, waarbij je kunt kennismaken met het uitgebreide assortiment spiegelloze systeemcamera’s en het enorm uitgebreide objectievenassortiment! Deelname aan de Canon EOS Roadshow is gratis. Je kunt je aanmelden voor 1 van de 2 productpresentaties waarin een Canon Professional je alles zal vertellen over het EOS R systeem en de objectieven. Uiteraard kun je de producten zelf uitgebreid testen tijdens de “touch & try”  en kun je al je vragen afvuren op de Canon-ambassadeur. Vanzelfsprekend zorgen we voor een prachtige aanbieding voor deelnemers aan de Canon EOS Roadshow op 31 oktober! \nSessie 1:  start 16.00 uur max. 10 deelnemers\nSessie 2:  start 19.00 uur max. 12 deelnemers \nMeld je hier aan en vermeld of je met Sessie 1 of 2 wil meedoen
URL:https://www.cameraclubwageningen.nl/event/canon-eos-roadshow-bij-foto-leenarts/
CATEGORIES:Bericht
ATTACH;FMTTYPE=image/webp:https://www.cameraclubwageningen.nl/wordpress/wp-content/uploads/2025/10/5331C030_EOS-R10_03.webp
END:VEVENT
END:VCALENDAR