BEGIN:VCALENDAR
VERSION:2.0
PRODID:-//Camera Club Wageningen - ECPv6.15.20//NONSGML v1.0//EN
CALSCALE:GREGORIAN
METHOD:PUBLISH
X-WR-CALNAME:Camera Club Wageningen
X-ORIGINAL-URL:https://www.cameraclubwageningen.nl
X-WR-CALDESC:Evenementen voor Camera Club Wageningen
REFRESH-INTERVAL;VALUE=DURATION:PT1H
X-Robots-Tag:noindex
X-PUBLISHED-TTL:PT1H
BEGIN:VTIMEZONE
TZID:Europe/Amsterdam
BEGIN:DAYLIGHT
TZOFFSETFROM:+0100
TZOFFSETTO:+0200
TZNAME:CEST
DTSTART:20250330T010000
END:DAYLIGHT
BEGIN:STANDARD
TZOFFSETFROM:+0200
TZOFFSETTO:+0100
TZNAME:CET
DTSTART:20251026T010000
END:STANDARD
BEGIN:DAYLIGHT
TZOFFSETFROM:+0100
TZOFFSETTO:+0200
TZNAME:CEST
DTSTART:20260329T010000
END:DAYLIGHT
BEGIN:STANDARD
TZOFFSETFROM:+0200
TZOFFSETTO:+0100
TZNAME:CET
DTSTART:20261025T010000
END:STANDARD
BEGIN:DAYLIGHT
TZOFFSETFROM:+0100
TZOFFSETTO:+0200
TZNAME:CEST
DTSTART:20270328T010000
END:DAYLIGHT
BEGIN:STANDARD
TZOFFSETFROM:+0200
TZOFFSETTO:+0100
TZNAME:CET
DTSTART:20271031T010000
END:STANDARD
END:VTIMEZONE
BEGIN:VEVENT
DTSTART;TZID=Europe/Amsterdam:20260413T100000
DTEND;TZID=Europe/Amsterdam:20260515T170000
DTSTAMP:20260423T202252
CREATED:20260307T172033Z
LAST-MODIFIED:20260307T172141Z
UID:9560-1776074400-1778864400@www.cameraclubwageningen.nl
SUMMARY:Foto-expositie Marjan Rosendahl - Persoonlijke Landschappen
DESCRIPTION:PERSOONLIJKE LANDSCHAPPEN \nWat zie je… en wat blijft verborgen? \nOm aandacht te vragen voor de vele kanten van de ziekte van Parkinson laat fotografe Marjan Rosendahl in deze foto-expositie tweeluiken zien van zwart-wit portretten naast kleurrijke landschappen.\nDe identieke kleding die deelnemers dragen verwijst naar het stereotiepe beeld dat vaak aan de ziekte kleeft: trillen.\nDe persoonlijke landschappen vertellen wat anders. Deze foto’s zijn voortgekomen uit gesprekken met deelnemers en staan symbool voor het symptoom dat voor hen de meeste impact heeft.\nSamen vormen de foto’s een uitnodiging:\nom langer te kijken\nom bewustwording te creëren\nom met andere ogen naar de ziekte van Parkinson te kijken \nPraktische informatie:\nWanneer: 13 april tot en met 15 mei 2026\nWaar: Multizaal in de Turmac Cultuurfabriek\nAdres: Kerkstraat 27\, 6901 AA Zevenaar\nOpeningstijden: Dinsdag t/m vrijdag 10.00 – 17.00 uur\nZaterdag en zondag 14.00 – 17.00 uur \nGratis parkeren is mogelijk aan Stationsplein 4 te Zevenaar. Vanuit daar volg je de borden naar Turmac Cultuurfabriek.\nVoor actuele informatie: https://liemerskunstwerk.nl/museum/\nToegang is gratis.
URL:https://www.cameraclubwageningen.nl/event/foto-expositie-marjan-rosendahl/
LOCATION:Multizaal in de Turmac Cultuurfabriek\, Kerkstraat 27\, Zevenaar\, 6901 AA\, Netherlands
CATEGORIES:Bericht
ATTACH;FMTTYPE=image/png:https://www.cameraclubwageningen.nl/wordpress/wp-content/uploads/2026/03/Schermafbeelding-2026-03-07-181523.png
END:VEVENT
END:VCALENDAR